BEGIN:VCALENDAR
VERSION:2.0
PRODID:-//JIKO Creative House - ECPv6.15.17//NONSGML v1.0//EN
CALSCALE:GREGORIAN
METHOD:PUBLISH
X-WR-CALNAME:JIKO Creative House
X-ORIGINAL-URL:https://jiko-ch.com
X-WR-CALDESC:Events for JIKO Creative House
REFRESH-INTERVAL;VALUE=DURATION:PT1H
X-Robots-Tag:noindex
X-PUBLISHED-TTL:PT1H
BEGIN:VTIMEZONE
TZID:UTC
BEGIN:STANDARD
TZOFFSETFROM:+0000
TZOFFSETTO:+0000
TZNAME:UTC
DTSTART:20230101T000000
END:STANDARD
END:VTIMEZONE
BEGIN:VEVENT
DTSTART;TZID=UTC:20240106T154500
DTEND;TZID=UTC:20240106T173000
DTSTAMP:20260423T122929
CREATED:20231209T133025Z
LAST-MODIFIED:20240103T123912Z
UID:5570-1704555900-1704562200@jiko-ch.com
SUMMARY:Delavnice za odrasle - prvo srečanje in raziskovanje
DESCRIPTION:Prvo delavnico bomo namenili raziskovanju! \nNa začetku bomo razložili tehnike oblikovanja in se pogumno lotili izdelovanja izdelka. \nV ceno je vključena glina\, materiali\, mentorstvo\, prostor in 1x biskvitno žganje. \n105 min čistega ustvarjalnega razvajanja \n  \nPrimerno za začetnike \n  \n 
URL:https://jiko-ch.com/dogodki/delavnice-za-odrasle/
CATEGORIES:Delavnice za odrasle
END:VEVENT
BEGIN:VEVENT
DTSTART;TZID=UTC:20240111T180000
DTEND;TZID=UTC:20240111T194500
DTSTAMP:20260423T122929
CREATED:20231228T185833Z
LAST-MODIFIED:20240103T124019Z
UID:5648-1704996000-1705002300@jiko-ch.com
SUMMARY:Delavnica za odrasle -  Dve šalčki
DESCRIPTION:Set dveh šalčk\, eno zase eno za tvojega bližnjega! \nV ceno je vključena glina\, materiali\, mentorstvo\, prostor in 1x biskvitno žganje. \nPrimerno tudi za začetnike.
URL:https://jiko-ch.com/dogodki/delavnica-za-odrasle-dve-salcki/
CATEGORIES:Delavnice za odrasle
END:VEVENT
BEGIN:VEVENT
DTSTART;TZID=UTC:20240112T173000
DTEND;TZID=UTC:20240112T193000
DTSTAMP:20260423T122929
CREATED:20231209T135318Z
LAST-MODIFIED:20231231T065725Z
UID:5576-1705080600-1705087800@jiko-ch.com
SUMMARY:Kreativni petki za vse!
DESCRIPTION:Petki so namenjeni vsem od 14. leta naprej. \nSmo bolj na izi..in delamo kar si želimo. Žurka z glino in glasbo! \n  \nOb prihodu\, lahko kupite glino (10kg)\, ki bo samo vaša in vam bo lahko služila tudi več petkov. \nZaradi varnosti uporabljamo samo določene vrste gline. \nBiskvitno žganje in glazura po ceniku. \n10kg gline (1 paket) – 20€ \n  \n 
URL:https://jiko-ch.com/dogodki/kreativni-petki-za-vse/
LOCATION:Studio JIKO\, Adamičeva 8\, Grosuplje\, 1290\, Slovenia
CATEGORIES:Delavnice za odrasle,Mladinske delavnice
END:VEVENT
BEGIN:VEVENT
DTSTART;TZID=UTC:20240113T154500
DTEND;TZID=UTC:20240113T173000
DTSTAMP:20260423T122929
CREATED:20231228T191759Z
LAST-MODIFIED:20240103T124908Z
UID:5654-1705160700-1705167000@jiko-ch.com
SUMMARY:Delavnica za odrasle - Presenečenje
DESCRIPTION:V mislih imam prav posebno razgibavanje tvoje domišljije. Boš videl/a 🙂 \nPridi\, tvegaj\, poskusi! \nV ceno je vključena glina\, materiali\, mentorstvo\, prostor in 1x biskvitno žganje. \nPrimerno tudi za začetnike.
URL:https://jiko-ch.com/dogodki/delavnica-za-odrasle-presenecenje/
CATEGORIES:Delavnice za odrasle
END:VEVENT
BEGIN:VEVENT
DTSTART;TZID=UTC:20240118T173000
DTEND;TZID=UTC:20240118T191500
DTSTAMP:20260423T122929
CREATED:20231228T205757Z
LAST-MODIFIED:20240103T124013Z
UID:5684-1705599000-1705605300@jiko-ch.com
SUMMARY:Delavnica za odrasle - solnice in popernice
DESCRIPTION:Zabavno! Že imate idejo? \nLahko pridete že z skico v rokah. \nV ceno všteto mentorstvo\, glina\, 1x biskvitno žganje in prostor\, ter čepki za solnice in popernice. \nPrimerna za tiste\, ki že poznate osnove oblikovanja gline. \n 
URL:https://jiko-ch.com/dogodki/delavnica-za-odrasle-solnice-in-popernice/
CATEGORIES:Delavnice za odrasle
END:VEVENT
BEGIN:VEVENT
DTSTART;TZID=UTC:20240119T173000
DTEND;TZID=UTC:20240119T193000
DTSTAMP:20260423T122929
CREATED:20231228T202042Z
LAST-MODIFIED:20231231T070055Z
UID:5674-1705685400-1705692600@jiko-ch.com
SUMMARY:Kreativni petki za vse!
DESCRIPTION:Petki so namenjeni vsem od 14. leta naprej. \nSmo bolj na izi..in delamo kar si želimo. Žurka z glino in glasbo! \n  \nOb prihodu\, lahko kupite glino (10kg)\, ki bo samo vaša in vam bo lahko služila tudi več petkov. \nZaradi varnosti uporabljamo samo določene vrste gline. \nBiskvitno žganje in glazura po ceniku. \n10kg gline (1 paket) – 20€ \n  \n 
URL:https://jiko-ch.com/dogodki/kreativni-petki-za-vse-2/
CATEGORIES:Delavnice za odrasle,Mladinske delavnice
END:VEVENT
BEGIN:VEVENT
DTSTART;TZID=UTC:20240124T163000
DTEND;TZID=UTC:20240124T174500
DTSTAMP:20260423T122929
CREATED:20231228T200042Z
LAST-MODIFIED:20231231T070133Z
UID:5665-1706113800-1706118300@jiko-ch.com
SUMMARY:Mladinska delavnica - zaključevanje izdelkov meseca Januarja
DESCRIPTION:Porisavanje z pigmentnimi barvami in zaključevanje izdelka z glazuro. \nDelavnica traja 1h:15min \nV ceno so všteti materiali\, pigmenti\, glazura\, 1x žganje izdelka\, mentorstvo in prostor. \n 
URL:https://jiko-ch.com/dogodki/mladinska-delavnica-izdelovanje-nakita-2-srecanje/
CATEGORIES:Delavnice za odrasle
END:VEVENT
BEGIN:VEVENT
DTSTART;TZID=UTC:20240126T170000
DTEND;TZID=UTC:20240126T183000
DTSTAMP:20260423T122929
CREATED:20231228T203218Z
LAST-MODIFIED:20231228T203218Z
UID:5677-1706288400-1706293800@jiko-ch.com
SUMMARY:POP UP PETEK - Risanje z akvareli
DESCRIPTION:Risanje z akavareli je zelo zabavno in tudi zelo zahtevno\, saj želiš obvladovati potek prelivanja barv\, da dosežeš senčenja in dodajanje detajlov postopoma. \nZa nadobudne risarje in tiste\, ki bi to radi probali. \nDelavnica je primerna za mlade in mlade po srcu ( od 12. leta dalje ) \n  \nV ceno je všteto mentrostvo\, prostor\, akvarelne barve\, tuši \npripomočki: lateks za efekte\, čopiči\, akvarelni papir in ostalo \n  \n 
URL:https://jiko-ch.com/dogodki/pop-up-petek-risanje-z-akvareli/
CATEGORIES:Delavnice za odrasle,Delavnice za otroke,Mladinske delavnice
END:VEVENT
BEGIN:VEVENT
DTSTART;TZID=UTC:20240127T154500
DTEND;TZID=UTC:20240127T173000
DTSTAMP:20260423T122929
CREATED:20231228T195053Z
LAST-MODIFIED:20240103T125011Z
UID:5663-1706370300-1706376600@jiko-ch.com
SUMMARY:Delavnice za odrasle - zaključevanje izdelkov tega meseca
DESCRIPTION:Če ste se udeležili v mesecu Januarju delavnice gline in želite dokončati svoj izdelek z ilustracijo in glazuro ste vljudno vabljeni! \nČe nimate svojega izdelka\, vljudno vabljeni vsi\, ki bi radi risali ilustracije na keramiko. \nV tem primeru imamo izdelke\, kateri iščejo svojo okrasitev (napišite ob prijavi). \nNa voljo bodo: podglazurne barve\, pigmenti\, voščenke za glino\, čopiči in nekaj efektnih glazur \n  \n  \n 
URL:https://jiko-ch.com/dogodki/delavnice-za-odrasle-ilutracija-na-glinene-izdelke/
CATEGORIES:Delavnice za odrasle
END:VEVENT
BEGIN:VEVENT
DTSTART;TZID=UTC:20240128T100000
DTEND;TZID=UTC:20240128T113000
DTSTAMP:20260423T122929
CREATED:20231228T201710Z
LAST-MODIFIED:20240122T164842Z
UID:5671-1706436000-1706441400@jiko-ch.com
SUMMARY:Nedeljska čajanka in družinsko povezovanje
DESCRIPTION:Prvo nedeljsko družinsko srečanje je namenjeno za kreativnost in povezavanje z našimi bližnjimi \nPreživite kvaliteten čas s svojimi otroci\, možem\, dedkom\, babico… \n  \nVstop za odrasle 15€ in otroke 12€\, mlajpi od 5.let je vstop prost. \nNa voljo bo glina\, vodenje\, materiali in seveda kava ter čaj. \nVljudno vabljeni!
URL:https://jiko-ch.com/dogodki/nedeljska-cajanka-za-druzinsko-povezovanje/
CATEGORIES:Delavnice za odrasle,Delavnice za otroke,Mladinske delavnice,Splošno obvestilo
END:VEVENT
END:VCALENDAR