BEGIN:VCALENDAR
VERSION:2.0
PRODID:-//JIKO Creative House - ECPv6.15.17//NONSGML v1.0//EN
CALSCALE:GREGORIAN
METHOD:PUBLISH
X-ORIGINAL-URL:https://jiko-ch.com
X-WR-CALDESC:Events for JIKO Creative House
REFRESH-INTERVAL;VALUE=DURATION:PT1H
X-Robots-Tag:noindex
X-PUBLISHED-TTL:PT1H
BEGIN:VTIMEZONE
TZID:UTC
BEGIN:STANDARD
TZOFFSETFROM:+0000
TZOFFSETTO:+0000
TZNAME:UTC
DTSTART:20230101T000000
END:STANDARD
END:VTIMEZONE
BEGIN:VEVENT
DTSTART;TZID=UTC:20240202T170000
DTEND;TZID=UTC:20240202T190000
DTSTAMP:20260423T104954
CREATED:20240122T195938Z
LAST-MODIFIED:20240129T080242Z
UID:5758-1706893200-1706900400@jiko-ch.com
SUMMARY:Kreativni petki za vse!
DESCRIPTION:Petki so namenjeni vsem od 14. leta naprej. \n\n\n\nSmo bolj na izi.  \n\n\n\nPetki so namenjeni samostojnemu oblikovanju gline. \n\n\n\n \n\n\n\nZaradi varnosti uporabljamo samo določene vrste gline. \n\n\n\nBiskvitno žganje in glazura po ceniku. \n\n\n\n10kg gline – 20€ ( vam bo služila več petkov ;))
URL:https://jiko-ch.com/dogodki/kreativni-petki-za-vse-3/
CATEGORIES:Delavnice za odrasle,Mladinske delavnice
END:VEVENT
BEGIN:VEVENT
DTSTART;TZID=UTC:20240203T111500
DTEND;TZID=UTC:20240203T131500
DTSTAMP:20260423T104954
CREATED:20240122T210126Z
LAST-MODIFIED:20240129T193040Z
UID:5769-1706958900-1706966100@jiko-ch.com
SUMMARY:Šalčka + krožniček - Delavnica za odrasle
DESCRIPTION:Izdelali si bomo šalčko\, po principu krojenja in ji dodali okrasne elemente – okrasni elementi so lahko narejeni v sgraffito tehniki\, barvanje z engobami\, dodajne oblik\, odvzemanje gline in še kaj.
URL:https://jiko-ch.com/dogodki/moja-salcka/
CATEGORIES:Delavnice za odrasle,Mladinske delavnice
END:VEVENT
BEGIN:VEVENT
DTSTART;TZID=UTC:20240208T090000
DTEND;TZID=UTC:20240208T110000
DTSTAMP:20260423T104954
CREATED:20240129T194830Z
LAST-MODIFIED:20240129T200751Z
UID:5820-1707382800-1707390000@jiko-ch.com
SUMMARY:Tečaj Vreteno DOP
DESCRIPTION:
URL:https://jiko-ch.com/dogodki/tecaj-vreteno-pop/
CATEGORIES:Delavnice za odrasle,Mladinske delavnice
END:VEVENT
BEGIN:VEVENT
DTSTART;TZID=UTC:20240208T170000
DTEND;TZID=UTC:20240208T200000
DTSTAMP:20260423T104954
CREATED:20240122T205243Z
LAST-MODIFIED:20240131T135646Z
UID:5765-1707411600-1707422400@jiko-ch.com
SUMMARY:Delavnica za odrasle - Skulptura
DESCRIPTION:Delavnica bo namenjena grajenju in krojenju skulpture iz gline. Ta je lahko organskega videza\, geometrijska\, uporabna\, okrasna.. \n\n\n\nZagotovo pa bo zabavna delavnica. \n\n\n\nDelavnica traja 3 ure.
URL:https://jiko-ch.com/dogodki/delavnica-za-odrasle-skulptura/
CATEGORIES:Delavnice za odrasle
END:VEVENT
BEGIN:VEVENT
DTSTART;TZID=UTC:20240209T050000
DTEND;TZID=UTC:20240209T190000
DTSTAMP:20260423T104954
CREATED:20240129T075702Z
LAST-MODIFIED:20240129T080206Z
UID:5779-1707454800-1707505200@jiko-ch.com
SUMMARY:Kreativni petki za vse!
DESCRIPTION:Petki so namenjeni vsem od 14. leta naprej. \n\n\n\nSmo bolj na izi. \n\n\n\nPetki so namenjeni samostojnemu oblikovanju gline. \n\n\n\nZaradi varnosti uporabljamo samo določene vrste gline. \n\n\n\nBiskvitno žganje in glazura po ceniku. \n\n\n\n10kg gline – 20€ ( vam bo služila več petkov ;))
URL:https://jiko-ch.com/dogodki/kreativni-petki-za-vse-4/
CATEGORIES:Delavnice za odrasle,Mladinske delavnice
END:VEVENT
BEGIN:VEVENT
DTSTART;TZID=UTC:20240210T170000
DTEND;TZID=UTC:20240210T193000
DTSTAMP:20260423T104954
CREATED:20240129T075042Z
LAST-MODIFIED:20240129T081012Z
UID:5773-1707584400-1707593400@jiko-ch.com
SUMMARY:PIŠKOTNICA - Poslikava z engobami in sgraffito tehnika
DESCRIPTION:Podajamo se v svet engob in sgraffito tehnike. Na delavnici bomo pobarvali piškotnico z motivi\, ki jih imamo najraje.  \n\n\n\nDelavnica je primerna za vse.  \n\n\n\nV ceno je všteta glina\, engobe\, pripomočki\, prostor\, glazura in 2x peka izdelka\, ter mentorstvo.
URL:https://jiko-ch.com/dogodki/poslikava-z-engobami-in-sgraffito-tehnika/
CATEGORIES:Delavnice za odrasle
END:VEVENT
BEGIN:VEVENT
DTSTART;TZID=UTC:20240216T170000
DTEND;TZID=UTC:20240216T190000
DTSTAMP:20260423T104954
CREATED:20240129T075915Z
LAST-MODIFIED:20240129T080613Z
UID:5781-1708102800-1708110000@jiko-ch.com
SUMMARY:Kreativni petki za vse!
DESCRIPTION:Petki so namenjeni vsem od 14. leta naprej. \n\n\n\nSmo bolj na izi. \n\n\n\nPetki so namenjeni samostojnemu oblikovanju gline. \n\n\n\nZaradi varnosti uporabljamo samo določene vrste gline. \n\n\n\nBiskvitno žganje in glazura po ceniku. \n\n\n\n10kg gline – 20€ ( vam bo služila več petkov ;))
URL:https://jiko-ch.com/dogodki/kreativni-petki-za-vse-5/
CATEGORIES:Delavnice za odrasle,Mladinske delavnice
END:VEVENT
BEGIN:VEVENT
DTSTART;TZID=UTC:20240223T173000
DTEND;TZID=UTC:20240223T193000
DTSTAMP:20260423T104954
CREATED:20240129T080355Z
LAST-MODIFIED:20240129T080644Z
UID:5783-1708709400-1708716600@jiko-ch.com
SUMMARY:Kreativni petki za vse!
DESCRIPTION:Petki so namenjeni vsem od 14. leta naprej. \n\n\n\nSmo bolj na izi. \n\n\n\nPetki so namenjeni samostojnemu oblikovanju gline. \n\n\n\nZaradi varnosti uporabljamo samo določene vrste gline. \n\n\n\nBiskvitno žganje in glazura po ceniku. \n\n\n\n10kg gline – 20€ ( vam bo služila več petkov ;))
URL:https://jiko-ch.com/dogodki/kreativni-petki-za-vse-6/
CATEGORIES:Delavnice za odrasle,Mladinske delavnice
END:VEVENT
BEGIN:VEVENT
DTSTART;TZID=UTC:20240224T090000
DTEND;TZID=UTC:20240224T120000
DTSTAMP:20260423T104954
CREATED:20240129T194023Z
LAST-MODIFIED:20240131T085907Z
UID:5816-1708765200-1708776000@jiko-ch.com
SUMMARY:Delavnica za odrasle: izparilnik za eterično olje
DESCRIPTION:Izdelovali bomo izpirlnike za eterična olja. Že imaš idejo? \n\n\n\nPridi in naredi svoj izparilnik!
URL:https://jiko-ch.com/dogodki/delavnica-za-odrasle-izparilnik-za-etericno-olje/
CATEGORIES:Delavnice za odrasle,Mladinske delavnice
END:VEVENT
END:VCALENDAR