BEGIN:VCALENDAR
VERSION:2.0
PRODID:-//JIKO Creative House - ECPv6.15.17//NONSGML v1.0//EN
CALSCALE:GREGORIAN
METHOD:PUBLISH
X-WR-CALNAME:JIKO Creative House
X-ORIGINAL-URL:https://jiko-ch.com
X-WR-CALDESC:Events for JIKO Creative House
REFRESH-INTERVAL;VALUE=DURATION:PT1H
X-Robots-Tag:noindex
X-PUBLISHED-TTL:PT1H
BEGIN:VTIMEZONE
TZID:UTC
BEGIN:STANDARD
TZOFFSETFROM:+0000
TZOFFSETTO:+0000
TZNAME:UTC
DTSTART:20230101T000000
END:STANDARD
END:VTIMEZONE
BEGIN:VEVENT
DTSTART;TZID=UTC:20240203T090000
DTEND;TZID=UTC:20240203T103000
DTSTAMP:20260423T093559
CREATED:20240122T194036Z
LAST-MODIFIED:20240129T080221Z
UID:5755-1706950800-1706956200@jiko-ch.com
SUMMARY:Delavnica za otroke - Posodica
DESCRIPTION:S tehniko ščipanja si bomo izdelali posodico s karakterjem.
URL:https://jiko-ch.com/dogodki/delavnica-za-otroke-posodica/
CATEGORIES:Delavnice za otroke
END:VEVENT
BEGIN:VEVENT
DTSTART;TZID=UTC:20240210T090000
DTEND;TZID=UTC:20240210T225000
DTSTAMP:20260423T093559
CREATED:20240122T202203Z
LAST-MODIFIED:20240129T092816Z
UID:5763-1707555600-1707605400@jiko-ch.com
SUMMARY:Otroška delavnica -  Pustno rajanje in igra z glino
DESCRIPTION:Prideš na pustno rajanje? Igrali in raziskovali bomo glino!  \n\n\n\nNa voljo bodo tudi krofi in čaj 🙂
URL:https://jiko-ch.com/dogodki/otroska-delavnica-pustno-rajanje-in-igra-z-glino/
CATEGORIES:Delavnice za otroke
END:VEVENT
BEGIN:VEVENT
DTSTART;TZID=UTC:20240217T090000
DTEND;TZID=UTC:20240217T103000
DTSTAMP:20260423T093559
CREATED:20240129T192748Z
LAST-MODIFIED:20240129T192930Z
UID:5810-1708160400-1708165800@jiko-ch.com
SUMMARY:Otroška delavnica - ščipanje gline
DESCRIPTION:Ne se bat\, ne bomo samo ščipali gline\, ampak se tako reče tehniki (ang. Pinching)\, ki ponazarja\, da kepo gline ščipamo do željene oblike\, nato pa jo še okrasimo. \n\n\n\nPoučno in zabavno.
URL:https://jiko-ch.com/dogodki/otroska-delavnica-scipanje-gline/
CATEGORIES:Delavnice za otroke
END:VEVENT
BEGIN:VEVENT
DTSTART;TZID=UTC:20240219T090000
DTEND;TZID=UTC:20240219T114500
DTSTAMP:20260423T093559
CREATED:20240129T084922Z
LAST-MODIFIED:20240129T210216Z
UID:5787-1708333200-1708343100@jiko-ch.com
SUMMARY:Otroška delavnica - Male ure šivanja
DESCRIPTION:Začeli bomo z mini urami šivanja! \n\n\n\nIzdelali si bomo svojo prvo denarnico! Denarnica bo nosila naše ilustracije. Prvi dve uri se bomo posvetili akvarelom in tušem in z njimi ustvarili pravo barvno bombo. Skupaj bomo naredili kroj in sestavili plohe. Na koncu bomo sešili stranice in si prislužili svojo prvo denarnico oz. žepek blaga za shranjevanje! \n\n\n\nPogledali bomo\, kako se nastavimo sukanec in kako se šiva na šivalni stroj. Vsak bo tudi naredil svoje prve ali druge šive 🙂 \n\n\n\nZa prijetnejši ambient je št. mest omejeno na 6 otrok.
URL:https://jiko-ch.com/dogodki/male-ure-sivanja/
CATEGORIES:Delavnice za otroke
END:VEVENT
BEGIN:VEVENT
DTSTART;TZID=UTC:20240220T090000
DTEND;TZID=UTC:20240220T110000
DTSTAMP:20260423T093559
CREATED:20240129T085957Z
LAST-MODIFIED:20240129T205754Z
UID:5789-1708419600-1708426800@jiko-ch.com
SUMMARY:Otroška delavnica - Risanje in poslikava glinenih izdelkov
DESCRIPTION:
URL:https://jiko-ch.com/dogodki/risanje-in-poslikava-glinenih-izdelkov/
CATEGORIES:Delavnice za otroke
END:VEVENT
BEGIN:VEVENT
DTSTART;TZID=UTC:20240221T090000
DTEND;TZID=UTC:20240221T233000
DTSTAMP:20260423T093559
CREATED:20240129T090514Z
LAST-MODIFIED:20240129T092156Z
UID:5792-1708506000-1708558200@jiko-ch.com
SUMMARY:VRETENO in otroci!
DESCRIPTION:Igrali se bomo z glino na malo drugačen način! Ja\, za vretenom!  \n\n\n\nVsak bo poizkusil vreteno in sprobal to čudo kako prede. Vabljeni otroci!  \n\n\n\nŠtevilo mest omejeno.
URL:https://jiko-ch.com/dogodki/vreteno-in-otroci/
CATEGORIES:Delavnice za otroke
END:VEVENT
END:VCALENDAR